BEGIN:VCALENDAR
VERSION:2.0
PRODID:-//TYPO3/NONSGML Calendarize//EN
BEGIN:VEVENT
UID:calendarize-herbstkonzert-mv-vorderweissenbach-20261121-20261121
DTSTAMP:20260424T232202
DTSTART:20261121T193000
DTEND:20261121T220000
SUMMARY:Herbstkonzert - MV Vorderweißenbach
DESCRIPTION:
X-ALT-DESC;FMTTYPE=text/html:
LOCATION:Vorderweißenbach
END:VEVENT
END:VCALENDAR
