BEGIN:VCALENDAR
VERSION:2.0
PRODID:-//TYPO3/NONSGML Calendarize//EN
BEGIN:VEVENT
UID:calendarize-herbstkonzert-mv-ried-im-traunkreis
DTSTAMP:20260424T220309
DTSTART:20261114T200000
SUMMARY:Herbstkonzert MV Ried im Traunkreis
DESCRIPTION:
X-ALT-DESC;FMTTYPE=text/html:
LOCATION:Turnsaal VS Ried/Trkr.
END:VEVENT
END:VCALENDAR
