BEGIN:VCALENDAR
VERSION:2.0
PRODID:-//TYPO3/NONSGML Calendarize//EN
BEGIN:VEVENT
UID:calendarize-herbstkonzert-mv-engerwitzdorf-202661114
DTSTAMP:20260424T220214
DTSTART:20261114T193000
DTEND:20261114T220000
SUMMARY:Herbstkonzert - MV Engerwitzdorf 
DESCRIPTION:
X-ALT-DESC;FMTTYPE=text/html:
LOCATION:Kulturhaus "Im Schöffl"\, Schweinbach 
END:VEVENT
END:VCALENDAR
