BEGIN:VCALENDAR
VERSION:2.0
PRODID:-//TYPO3/NONSGML Calendarize//EN
BEGIN:VEVENT
UID:calendarize-herbstkonzert-mit-hard-chor
DTSTAMP:20260424T233320
DTSTART:20261213T170000
DTEND:20261213T190000
SUMMARY:Herbstkonzert mit Hard-Chor
DESCRIPTION:
X-ALT-DESC;FMTTYPE=text/html:
LOCATION:Friedenskirche
END:VEVENT
END:VCALENDAR
