BEGIN:VCALENDAR
VERSION:2.0
PRODID:-//TYPO3/NONSGML Calendarize//EN
BEGIN:VEVENT
UID:calendarize-herbstkonzert-des-mv-inzersdorf-magdalenaberg-6
DTSTAMP:20260424T232008
DTSTART:20261128T000000
DTEND:20261128T000000
SUMMARY:Herbstkonzert des MV Inzersdorf-Magdalenaberg
DESCRIPTION:
X-ALT-DESC;FMTTYPE=text/html:
LOCATION:
END:VEVENT
END:VCALENDAR
