BEGIN:VCALENDAR
VERSION:2.0
PRODID:-//TYPO3/NONSGML Calendarize//EN
BEGIN:VEVENT
UID:calendarize-herbstkonzert-der-trachtenmusikkapelle-gruenburg-3
DTSTAMP:20260424T220516
DTSTART:20261114T200000
DTEND:20261115T020000
SUMMARY:Herbstkonzert der Trachtenmusikkapelle Grünburg
DESCRIPTION:
X-ALT-DESC;FMTTYPE=text/html:
LOCATION:Stretzer Straße 58\, 4542 Nussbach
END:VEVENT
END:VCALENDAR
