BEGIN:VCALENDAR
VERSION:2.0
PRODID:-//TYPO3/NONSGML Calendarize//EN
BEGIN:VEVENT
UID:calendarize-herbstkonzert-der-stadtkapelle-ried-im-innkreis-3
DTSTAMP:20260424T232118
DTSTART:20261128T200000
DTEND:20261128T220000
SUMMARY:Herbstkonzert der Stadtkapelle Ried im Innkreis
DESCRIPTION:
X-ALT-DESC;FMTTYPE=text/html:
LOCATION:Jahnturnhalle\, Friedrich-Thurner-Straße 8\, 4910 Ried im Innkre
 is
END:VEVENT
END:VCALENDAR
