BEGIN:VCALENDAR
VERSION:2.0
PRODID:-//TYPO3/NONSGML Calendarize//EN
BEGIN:VEVENT
UID:calendarize-herbstkonzert-ae766ecfd4784f5964a0373ac88844de
DTSTAMP:20260424T220314
DTSTART:20261114T190000
SUMMARY:Herbstkonzert
DESCRIPTION:
X-ALT-DESC;FMTTYPE=text/html:
LOCATION:Turnsaal der VS Bachmanning
END:VEVENT
END:VCALENDAR
