BEGIN:VCALENDAR
VERSION:2.0
PRODID:-//TYPO3/NONSGML Calendarize//EN
BEGIN:VEVENT
UID:calendarize-herbstkonzert-a7ffefaa0686ae4694552a32c91622c1
DTSTAMP:20260424T204359
DTSTART:20261003T200000
SUMMARY:Herbstkonzert
DESCRIPTION:
X-ALT-DESC;FMTTYPE=text/html:
LOCATION:Offenhausen
END:VEVENT
END:VCALENDAR
