BEGIN:VCALENDAR
VERSION:2.0
PRODID:-//TYPO3/NONSGML Calendarize//EN
BEGIN:VEVENT
UID:calendarize-herbstkonzert-8b7da5f039a3d47d8571d5d52038409e
DTSTAMP:20260424T220130
DTSTART:20261121T190000
DTEND:20261121T220000
SUMMARY:Herbstkonzert
DESCRIPTION:
X-ALT-DESC;FMTTYPE=text/html:
LOCATION:Volksschule Stadl-Paura
END:VEVENT
END:VCALENDAR
