BEGIN:VCALENDAR
VERSION:2.0
PRODID:-//TYPO3/NONSGML Calendarize//EN
BEGIN:VEVENT
UID:calendarize-herbstkonzert-8588a751ff762c3aa3340efad9c9ade1
DTSTAMP:20260424T231656
DTSTART:20261128T170000
DTEND:20261128T190000
SUMMARY:Herbstkonzert
DESCRIPTION:
X-ALT-DESC;FMTTYPE=text/html:
LOCATION:Pfarrsaal Pichling
END:VEVENT
END:VCALENDAR
