BEGIN:VCALENDAR
VERSION:2.0
PRODID:-//TYPO3/NONSGML Calendarize//EN
BEGIN:VEVENT
UID:calendarize-herbstkonzert-64daf9cf93229eab124307f7bf9fb770
DTSTAMP:20260424T220120
DTSTART:20261121T193000
DTEND:20261121T213000
SUMMARY:Herbstkonzert 
DESCRIPTION:
X-ALT-DESC;FMTTYPE=text/html:
LOCATION:Hösshalle Hinterstoder
END:VEVENT
END:VCALENDAR
