BEGIN:VCALENDAR
VERSION:2.0
PRODID:-//TYPO3/NONSGML Calendarize//EN
BEGIN:VEVENT
UID:calendarize-herbstkonzert-5caf0995dcc7952b59f4a367af18c984
DTSTAMP:20260424T204316
DTSTART:20261024T200000
SUMMARY:Herbstkonzert
DESCRIPTION:
X-ALT-DESC;FMTTYPE=text/html:
LOCATION:Turnsaal der NMS Eberstalzell
END:VEVENT
END:VCALENDAR
