BEGIN:VCALENDAR
VERSION:2.0
PRODID:-//TYPO3/NONSGML Calendarize//EN
BEGIN:VEVENT
UID:calendarize-herbstkonzert-43445923d9f6fb4405dff9cd3fd13b36
DTSTAMP:20260424T220132
DTSTART:20261115T160000
DTEND:20261115T180000
SUMMARY:Herbstkonzert
DESCRIPTION:
X-ALT-DESC;FMTTYPE=text/html:
LOCATION:Kolpinghaus
END:VEVENT
END:VCALENDAR
