BEGIN:VCALENDAR
VERSION:2.0
PRODID:-//TYPO3/NONSGML Calendarize//EN
BEGIN:VEVENT
UID:calendarize-herbstkonzert-2f6d88b8045bfe2e1b3440ff95b52453-1-20261114
DTSTAMP:20260424T220355
DTSTART:20261114T200000
DTEND:20261114T230000
SUMMARY:Herbstkonzert
DESCRIPTION:Wir laden zum Herbstkonzert 2026 recht herzlich ein.  Sa. 14.
  November um 20:00 Uhr und So. 15. November um 16:00 Uhr Turnsaal VS Ried 
 im Traunkreis\nNach den musikalischen Klängen lädt der Verein zum gemüt
 lichen Beisammensein bei kleinen Imbissen\, Kaffee\, Kuchen und Getränken
  ein\n\n
X-ALT-DESC;FMTTYPE=text/html:<p>Wir laden zum&nbsp\;Herbstkonzert 2026 rec
 ht herzlich ein.<br /> <br /> Sa. 14. November um 20:00 Uhr und<br /> So. 
 15. November um 16:00 Uhr<br /> Turnsaal VS Ried im Traunkreis</p>\n<p>Nac
 h den musikalischen Klängen lädt der Verein zum gemütlichen Beisammense
 in bei kleinen Imbissen\, Kaffee\, Kuchen und Getränken ein</p>\n\n
LOCATION:Turnsaal VS Ried
END:VEVENT
END:VCALENDAR
