BEGIN:VCALENDAR
VERSION:2.0
PRODID:-//TYPO3/NONSGML Calendarize//EN
BEGIN:VEVENT
UID:calendarize-herbstkonzert-223fdce704e67665ce7af14309e114b0
DTSTAMP:20260424T231813
DTSTART:20261128T193000
DTEND:20261128T220000
SUMMARY:Herbstkonzert
DESCRIPTION:
X-ALT-DESC;FMTTYPE=text/html:
LOCATION:Volksschule Steinhaus
END:VEVENT
END:VCALENDAR
