BEGIN:VCALENDAR
VERSION:2.0
PRODID:-//TYPO3/NONSGML Calendarize//EN
BEGIN:VEVENT
UID:calendarize-herbstklaenge-des-ooebv-bezirksverbands-voecklabruck
DTSTAMP:20260424T232250
DTSTART:20261122T000000
DTEND:20261122T000000
SUMMARY:Herbstklänge des OÖBV Bezirksverbandes Vöcklabruck
DESCRIPTION:
X-ALT-DESC;FMTTYPE=text/html:
LOCATION:KUSZ Timelkam (https://maps.app.goo.gl/j4XaqPFRZX6agRSHA)
END:VEVENT
END:VCALENDAR
