BEGIN:VCALENDAR
VERSION:2.0
PRODID:-//TYPO3/NONSGML Calendarize//EN
BEGIN:VEVENT
UID:calendarize-herbstblaesertag-2026
DTSTAMP:20260424T204121
DTSTART:20261024T130000
DTEND:20261025T140000
SUMMARY:Herbstbläsertag 2026
DESCRIPTION:
X-ALT-DESC;FMTTYPE=text/html:
LOCATION:Stadtsaal Mattighofen
END:VEVENT
END:VCALENDAR
