BEGIN:VCALENDAR
VERSION:2.0
PRODID:-//TYPO3/NONSGML Calendarize//EN
BEGIN:VEVENT
UID:calendarize-generationenfruehschoppen
DTSTAMP:20260424T191648
DTSTART:20260517T100000
SUMMARY:Generationenfrühschoppen 
DESCRIPTION:
X-ALT-DESC;FMTTYPE=text/html:
LOCATION:Gemeindehalle
END:VEVENT
END:VCALENDAR
