BEGIN:VCALENDAR
VERSION:2.0
PRODID:-//TYPO3/NONSGML Calendarize//EN
BEGIN:VEVENT
UID:calendarize-gemeinschaftskonzert-auklaenge
DTSTAMP:20260424T191714
DTSTART:20260516T200000
DTEND:20260516T220000
SUMMARY:GEMEINSCHAFTSKONZERT "STADTKLÄNGE"
DESCRIPTION:
X-ALT-DESC;FMTTYPE=text/html:
LOCATION:Stadtplatz Altheim
END:VEVENT
END:VCALENDAR
