BEGIN:VCALENDAR
VERSION:2.0
PRODID:-//TYPO3/NONSGML Calendarize//EN
BEGIN:VEVENT
UID:calendarize-fruehlingskonzert-mv-julbach-2
DTSTAMP:20260424T175009
DTSTART:20260425T193000
DTEND:20260425T220000
SUMMARY:Frühlingskonzert MV Julbach
DESCRIPTION:Der Musikverein Julbach lädt zum Frühlingskonzert im GH Anna
 bründl recht herzlich ein.
X-ALT-DESC;FMTTYPE=text/html:Der Musikverein Julbach lädt zum Frühlingsk
 onzert im GH Annabründl recht herzlich ein.
LOCATION:Julbach
END:VEVENT
END:VCALENDAR
