BEGIN:VCALENDAR
VERSION:2.0
PRODID:-//TYPO3/NONSGML Calendarize//EN
BEGIN:VEVENT
UID:calendarize-fruehlingskonzert-mv-aigen-schlaegl-2
DTSTAMP:20260424T175030
DTSTART:20260425T193000
SUMMARY:Frühlingskonzert MV Aigen-Schlägl
DESCRIPTION:Herzliche Einladung zum Frühlingskonzert des Musikverein Aige
 n-Schlägl!
X-ALT-DESC;FMTTYPE=text/html:<p>Herzliche Einladung zum Frühlingskonzert 
 des Musikverein Aigen-Schlägl!</p>
LOCATION:Vereinshaus Aigen
END:VEVENT
END:VCALENDAR
