BEGIN:VCALENDAR
VERSION:2.0
PRODID:-//TYPO3/NONSGML Calendarize//EN
BEGIN:VEVENT
UID:calendarize-fruehlingskonzert-des-mv-spital-am-pyhrn-1
DTSTAMP:20260424T175153
DTSTART:20260425T193000
SUMMARY:Frühlingskonzert des MV Spital am Pyhrn
DESCRIPTION:
X-ALT-DESC;FMTTYPE=text/html:
LOCATION:Turnsaal der VS Spital
END:VEVENT
END:VCALENDAR
