BEGIN:VCALENDAR
VERSION:2.0
PRODID:-//TYPO3/NONSGML Calendarize//EN
BEGIN:VEVENT
UID:calendarize-fruehlingskonzert-des-musikverein-sandl-1
DTSTAMP:20260424T192212
DTSTART:20260509T193000
DTEND:20260509T223000
SUMMARY:Frühlingskonzert des Musikverein Sandl
DESCRIPTION:
X-ALT-DESC;FMTTYPE=text/html:
LOCATION:Sandl
END:VEVENT
END:VCALENDAR
