BEGIN:VCALENDAR
VERSION:2.0
PRODID:-//TYPO3/NONSGML Calendarize//EN
BEGIN:VEVENT
UID:calendarize-fruehlingskonzert-der-stadtmusik-voecklabruck
DTSTAMP:20260424T192255
DTSTART:20260509T193000
DTEND:20260509T220000
SUMMARY:Frühlingskonzert der Stadtmusik Vöcklabruck
DESCRIPTION:
X-ALT-DESC;FMTTYPE=text/html:
LOCATION:Stadtsaal Vöcklabruck
END:VEVENT
END:VCALENDAR
