BEGIN:VCALENDAR
VERSION:2.0
PRODID:-//TYPO3/NONSGML Calendarize//EN
BEGIN:VEVENT
UID:calendarize-fruehjahsrkonzert-mv-pinsdorf-2027
DTSTAMP:20260425T004357
DTSTART:20270410T200000
DTEND:20270410T230000
SUMMARY:Frühjahsrkonzert MV Pinsdorf 2027
DESCRIPTION:
X-ALT-DESC;FMTTYPE=text/html:
LOCATION:Toscana Gmunden
END:VEVENT
END:VCALENDAR
