BEGIN:VCALENDAR
VERSION:2.0
PRODID:-//TYPO3/NONSGML Calendarize//EN
BEGIN:VEVENT
UID:calendarize-fruehjahrskonzert-mv-neufelden-5
DTSTAMP:20260425T004410
DTSTART:20270313T200000
DTEND:20270313T220000
SUMMARY:Frühjahrskonzert MV Neufelden 
DESCRIPTION:
X-ALT-DESC;FMTTYPE=text/html:
LOCATION:Mehrzweckhalle Neufelden 
END:VEVENT
END:VCALENDAR
