BEGIN:VCALENDAR
VERSION:2.0
PRODID:-//TYPO3/NONSGML Calendarize//EN
BEGIN:VEVENT
UID:calendarize-fruehjahrskonzert-mv-altenberg-b-linz-20260425
DTSTAMP:20260424T192210
DTSTART:20260425T200000
DTEND:20260425T220000
SUMMARY:Frühjahrskonzert - MV Altenberg b. Linz
DESCRIPTION:
X-ALT-DESC;FMTTYPE=text/html:
LOCATION:Wirt z`Bairing - Magdalener Straße 2\, 4203 Altenberg bei Linz 
END:VEVENT
END:VCALENDAR
