BEGIN:VCALENDAR
VERSION:2.0
PRODID:-//TYPO3/NONSGML Calendarize//EN
BEGIN:VEVENT
UID:calendarize-fruehjahrskonzert-der-mk-mehrnbach-1
DTSTAMP:20260425T004619
DTSTART:20270402T200000
DTEND:20270402T223000
SUMMARY:Frühjahrskonzert der MK Mehrnbach
DESCRIPTION:
X-ALT-DESC;FMTTYPE=text/html:
LOCATION:Mehrzweckhalle Mehrnbach
END:VEVENT
END:VCALENDAR
