BEGIN:VCALENDAR
VERSION:2.0
PRODID:-//TYPO3/NONSGML Calendarize//EN
BEGIN:VEVENT
UID:calendarize-fruehjahrskonzert-bkm-sierning
DTSTAMP:20260424T175030
DTSTART:20260425T200000
DTEND:20260425T221500
SUMMARY:Frühjahrskonzert BKM Sierning
DESCRIPTION:Highlights: Rhapsody for Euphonium und Latin Tuba
X-ALT-DESC;FMTTYPE=text/html:<p>Highlights: Rhapsody for Euphonium und Lat
 in Tuba</p>
LOCATION:Sierning
END:VEVENT
END:VCALENDAR
