BEGIN:VCALENDAR
VERSION:2.0
PRODID:-//TYPO3/NONSGML Calendarize//EN
BEGIN:VEVENT
UID:calendarize-fruehjahrskonzert-2026-langholzfeld
DTSTAMP:20260424T191929
DTSTART:20260426T170000
DTEND:20260426T200000
SUMMARY:Frühjahrskonzert 2026 - Langholzfeld
DESCRIPTION:
X-ALT-DESC;FMTTYPE=text/html:
LOCATION:TiL - Langholzfeld
END:VEVENT
END:VCALENDAR
