BEGIN:VCALENDAR
VERSION:2.0
PRODID:-//TYPO3/NONSGML Calendarize//EN
BEGIN:VEVENT
UID:calendarize-fruehjahrskonzert-10-1
DTSTAMP:20260424T191709
DTSTART:20260509T200000
SUMMARY:Frühjahrskonzert
DESCRIPTION:Unter der Leitung von Kapellmeister Andrzej Kucharski findet a
 m 9. Mai wieder das traditionelle Muttertagskonzert in der Mehrzweckhalle 
 in Burgkirchen statt. Es erwartet Sie ein abwechslungsreiches Programm dur
 ch verschiedene Genres. Außerdem dürfen Sie gespannt auf ein besonderes 
 Highlight sein!
X-ALT-DESC;FMTTYPE=text/html:Unter der Leitung von Kapellmeister Andrzej K
 ucharski findet am 9. Mai wieder das traditionelle Muttertagskonzert in de
 r Mehrzweckhalle in Burgkirchen statt. Es erwartet Sie ein abwechslungsrei
 ches Programm durch verschiedene Genres. Außerdem dürfen Sie gespannt au
 f ein besonderes Highlight sein!
LOCATION:Mehrzweckhalle Burgkirchen
END:VEVENT
END:VCALENDAR
