BEGIN:VCALENDAR
VERSION:2.0
PRODID:-//TYPO3/NONSGML Calendarize//EN
BEGIN:VEVENT
UID:calendarize-fronleichnamsfruehschoppen-mv-ried-im-traunkreis-1
DTSTAMP:20260424T192221
DTSTART:20260604T103000
SUMMARY:Fronleichnamsfrühschoppen MV Ried im Traunkreis
DESCRIPTION:
X-ALT-DESC;FMTTYPE=text/html:
LOCATION:Dorfplatz Ried
END:VEVENT
END:VCALENDAR
