BEGIN:VCALENDAR
VERSION:2.0
PRODID:-//TYPO3/NONSGML Calendarize//EN
BEGIN:VEVENT
UID:calendarize-festkonzert-175-jahre-salinenmusikkapelle-bad-ischl
DTSTAMP:20260424T192255
DTSTART:20260425T200000
DTEND:20260425T220000
SUMMARY:Festkonzert 175 Jahre Salinenmusikkapelle Bad Ischl
DESCRIPTION:Die Salinenmusikkapelle Bad Ischl lädt anlässlich ihres 175-
 jährigen Bestandsjubiläums zu einem festlichen Konzertabend ein. Das Jub
 iläumskonzert findet am Samstag\, 25. April 2026 um 20 Uhr im Pfarrzentru
 m Bad Ischl statt.\nUnter der Leitung von Kapellmeister Michael Höllwerth
  präsentieren die Musikerinnen und Musiker ein sorgfältig zusammengestel
 ltes Programm\, das mit anspruchsvollen Werken ebenso begeistert wie mit f
 rühlingshaft beschwingten Melodien. Die Besucherinnen und Besucher dürfe
 n sich auf einen musikalisch abwechslungsreichen Abend voller Gefühl\, Kl
 angfarben und mitreißender Rhythmen freuen.\nDer Eintritt ist frei.
X-ALT-DESC;FMTTYPE=text/html:Die Salinenmusikkapelle Bad Ischl lädt anlä
 sslich ihres 175-jährigen Bestandsjubiläums zu einem festlichen Konzerta
 bend ein. Das Jubiläumskonzert findet am Samstag\, 25. April 2026 um 20 U
 hr im Pfarrzentrum Bad Ischl statt.\nUnter der Leitung von Kapellmeister M
 ichael Höllwerth präsentieren die Musikerinnen und Musiker ein sorgfält
 ig zusammengestelltes Programm\, das mit anspruchsvollen Werken ebenso beg
 eistert wie mit frühlingshaft beschwingten Melodien. Die Besucherinnen un
 d Besucher dürfen sich auf einen musikalisch abwechslungsreichen Abend vo
 ller Gefühl\, Klangfarben und mitreißender Rhythmen freuen.\nDer Eintrit
 t ist frei.
LOCATION:Pfarrzentrum Bad Ischl
END:VEVENT
END:VCALENDAR
