BEGIN:VCALENDAR
VERSION:2.0
PRODID:-//TYPO3/NONSGML Calendarize//EN
BEGIN:VEVENT
UID:calendarize-eroeffnungskonzert-im-burggarten
DTSTAMP:20260424T191930
DTSTART:20260604T200000
DTEND:20260604T213000
SUMMARY:Eröffnungskonzert im Burggarten
DESCRIPTION:
X-ALT-DESC;FMTTYPE=text/html:
LOCATION:
END:VEVENT
END:VCALENDAR
