BEGIN:VCALENDAR
VERSION:2.0
PRODID:-//TYPO3/NONSGML Calendarize//EN
BEGIN:VEVENT
UID:calendarize-dreiklang
DTSTAMP:20260424T191536
DTSTART:20260613T190000
DTEND:20260613T220000
SUMMARY:Dreiklang
DESCRIPTION:Stadtkapelle Braunau\, Ortsmusik Ranshofen und Spielmannszug B
 raunau
X-ALT-DESC;FMTTYPE=text/html:Stadtkapelle Braunau\, Ortsmusik Ranshofen un
 d Spielmannszug Braunau
LOCATION:Kirchenplatz Braunau
END:VEVENT
END:VCALENDAR
