BEGIN:VCALENDAR
VERSION:2.0
PRODID:-//TYPO3/NONSGML Calendarize//EN
BEGIN:VEVENT
UID:calendarize-das-verhexte-museum-1
DTSTAMP:20260424T191753
DTSTART:20260530T160000
DTEND:20260530T180000
SUMMARY:Das verhexte Museum
DESCRIPTION:
X-ALT-DESC;FMTTYPE=text/html:
LOCATION:Mehrzweckhalle Schleißheim (https://maps.app.goo.gl/YLU3czntvgLy
 xfbx6)
END:VEVENT
END:VCALENDAR
