BEGIN:VCALENDAR
VERSION:2.0
PRODID:-//TYPO3/NONSGML Calendarize//EN
BEGIN:VEVENT
UID:calendarize-daemmershoppen-zu-fronleichnam
DTSTAMP:20260424T191904
DTSTART:20260604T190000
SUMMARY:Dämmershoppen zu Fronleichnam
DESCRIPTION:traditioneller Dämmershoppen zu Fronleichnam
X-ALT-DESC;FMTTYPE=text/html:<p>traditioneller Dämmershoppen zu Fronleich
 nam</p>
LOCATION:Schützenheim Pabneukirchen
END:VEVENT
END:VCALENDAR
