BEGIN:VCALENDAR
VERSION:2.0
PRODID:-//TYPO3/NONSGML Calendarize//EN
BEGIN:VEVENT
UID:calendarize-caecilienkonzert-der-mmk-seewalchen-am-attersee-1
DTSTAMP:20260424T231853
DTSTART:20261128T193000
DTEND:20261128T213000
SUMMARY:Cäcilienkonzert der MMK Seewalchen am Attersee
DESCRIPTION:
X-ALT-DESC;FMTTYPE=text/html:
LOCATION:Kultursaal Seewalchen am Attersee (https://maps.app.goo.gl/CtMacV
 CnEAJQgigq6)
END:VEVENT
END:VCALENDAR
