BEGIN:VCALENDAR
VERSION:2.0
PRODID:-//TYPO3/NONSGML Calendarize//EN
BEGIN:VEVENT
UID:calendarize-caecilienkonzert-9
DTSTAMP:20260424T215936
DTSTART:20261114T190000
DTEND:20261114T235900
SUMMARY:Cäcilienkonzert
DESCRIPTION:Traditionelles Cäcilienkonzert der FM Langwies
X-ALT-DESC;FMTTYPE=text/html:Traditionelles Cäcilienkonzert der FM Langwi
 es
LOCATION:Schulzentrum Ebensee/ Festsaal ( Pestalozzipl. 6\, 4802 Ebensee)
END:VEVENT
END:VCALENDAR
