BEGIN:VCALENDAR
VERSION:2.0
PRODID:-//TYPO3/NONSGML Calendarize//EN
BEGIN:VEVENT
UID:calendarize-caecilia-konzert-8
DTSTAMP:20260424T220030
DTSTART:20261107T200000
DTEND:20261107T220000
SUMMARY:Cäcilia Konzert
DESCRIPTION:Wir freuen uns auf euren Besuch!
X-ALT-DESC;FMTTYPE=text/html:Wir freuen uns auf euren Besuch!
LOCATION:St. Pantaleon
END:VEVENT
END:VCALENDAR
