BEGIN:VCALENDAR
VERSION:2.0
PRODID:-//TYPO3/NONSGML Calendarize//EN
BEGIN:VEVENT
UID:calendarize-burggartenkonzert-musikverein-krenglbach
DTSTAMP:20260424T204729
DTSTART:20260716T200000
DTEND:20260716T213000
SUMMARY:Burggartenkonzert\, MV Krenglbach
DESCRIPTION:
X-ALT-DESC;FMTTYPE=text/html:
LOCATION:Burggarten Wels (Burggarten Wels)
END:VEVENT
END:VCALENDAR
