BEGIN:VCALENDAR
VERSION:2.0
PRODID:-//TYPO3/NONSGML Calendarize//EN
BEGIN:VEVENT
UID:calendarize-burggarten-konzert-1
DTSTAMP:20260424T191657
DTSTART:20260618T200000
DTEND:20260618T210000
SUMMARY:Burggartenkonzert\, Stadtmusik Wels
DESCRIPTION:
X-ALT-DESC;FMTTYPE=text/html:
LOCATION:Burggarten Wels (Schlechtwetter: Stadthalle Wels)
END:VEVENT
END:VCALENDAR
