BEGIN:VCALENDAR
VERSION:2.0
PRODID:-//TYPO3/NONSGML Calendarize//EN
BEGIN:VEVENT
UID:calendarize-blasmusikserenade-linz-ag-musik-1
DTSTAMP:20260424T204358
DTSTART:20260722T183000
DTEND:20260722T193000
SUMMARY:Blasmusikserenade - LINZ AG Musik
DESCRIPTION:
X-ALT-DESC;FMTTYPE=text/html:
LOCATION:Musiktheater im Volksgarten (https://www.in-linz-erklingts.at)
END:VEVENT
END:VCALENDAR
