BEGIN:VCALENDAR
VERSION:2.0
PRODID:-//TYPO3/NONSGML Calendarize//EN
BEGIN:VEVENT
UID:calendarize-blasmusikserenade-bundesbahnmusik-linz-2
DTSTAMP:20260424T191933
DTSTART:20260617T183000
DTEND:20260617T193000
SUMMARY:Blasmusikserenade - Bundesbahnmusik Linz
DESCRIPTION:
X-ALT-DESC;FMTTYPE=text/html:
LOCATION:Musiktheater im Volksgarten (https://www.in-linz-erklingts.at)
END:VEVENT
END:VCALENDAR
