BEGIN:VCALENDAR
VERSION:2.0
PRODID:-//TYPO3/NONSGML Calendarize//EN
BEGIN:VEVENT
UID:calendarize-blaesertage-mit-konzertwertung-2030-2-1
DTSTAMP:20260425T020802
DTSTART;VALUE=DATE:20301117
DTEND;VALUE=DATE:20301118
SUMMARY:Bläsertage mit Konzertwertung 2030
DESCRIPTION:
X-ALT-DESC;FMTTYPE=text/html:
LOCATION:Salzhof Freistadt
END:VEVENT
END:VCALENDAR
