BEGIN:VCALENDAR
VERSION:2.0
PRODID:-//TYPO3/NONSGML Calendarize//EN
BEGIN:VEVENT
UID:calendarize-blaesertage-mit-konzertwertung-2030-1
DTSTAMP:20260425T020756
DTSTART;VALUE=DATE:20301116
DTEND;VALUE=DATE:20301117
SUMMARY:Bläsertage mit Konzertwertung 2030
DESCRIPTION:
X-ALT-DESC;FMTTYPE=text/html:
LOCATION:Salzhof Freistadt
END:VEVENT
END:VCALENDAR
