BEGIN:VCALENDAR
VERSION:2.0
PRODID:-//TYPO3/NONSGML Calendarize//EN
BEGIN:VEVENT
UID:calendarize-blaesertage-mit-konzertwertung-2029-2-1
DTSTAMP:20260425T020803
DTSTART;VALUE=DATE:20291118
DTEND;VALUE=DATE:20291119
SUMMARY:Bläsertage mit Konzertwertung 2029
DESCRIPTION:
X-ALT-DESC;FMTTYPE=text/html:
LOCATION:Salzhof Freistadt
END:VEVENT
END:VCALENDAR
