BEGIN:VCALENDAR
VERSION:2.0
PRODID:-//TYPO3/NONSGML Calendarize//EN
BEGIN:VEVENT
UID:calendarize-blaesertage-mit-konzertwertung-2028-2-1
DTSTAMP:20260425T020807
DTSTART;VALUE=DATE:20281112
DTEND;VALUE=DATE:20281113
SUMMARY:Bläsertage mit Konzertwertung 2028
DESCRIPTION:
X-ALT-DESC;FMTTYPE=text/html:
LOCATION:Salzhof Freistadt
END:VEVENT
END:VCALENDAR
