BEGIN:VCALENDAR
VERSION:2.0
PRODID:-//TYPO3/NONSGML Calendarize//EN
BEGIN:VEVENT
UID:calendarize-blaesertage-mit-konzertwertung-2027-1
DTSTAMP:20260425T010257
DTSTART;VALUE=DATE:20271114
DTEND;VALUE=DATE:20271115
SUMMARY:Bläsertage mit Konzertwertung 2027
DESCRIPTION:
X-ALT-DESC;FMTTYPE=text/html:
LOCATION:Salzhof Freistadt
END:VEVENT
END:VCALENDAR
